
BEGIN:VCALENDAR
VERSION:2.0
CALSCALE:GREGORIAN
BEGIN:VEVENT
URL;VALUE=URI:https://www.boardoftrade.com/events/7774
DTSTART:20240507T183000Z
DTEND:20240507T203000Z
UID:7774eventcalendar.boardoftrade.com
DTSTAMP:20260419T191048Z
LOCATION:Fairmont Hotel Vancouver - Pacific Ballroom  900 W Georgia St  Vancouver
DESCRIPTION:Schedule: \nRegistration & Lunch: 11:30 a.m. - 12:30 p.m. PT\n Program: 12:30 – 1:30 p.m. PT \n \n \nEvent Detail Page: https://www.boardoftrade.com/events/7774
X-ALT-DESC;FMTTYPE=text/html:<!doctype html><html><body><div>Schedule: <p>Registration & Lunch: 11:30 a.m. - 12:30 p.m. PT<BR> Program: 12:30 – 1:30 p.m. PT <BR> </p></div>&nbsp\;<div>Event Detail Page: https://www.boardoftrade.com/events/7774</div></body></html>

SUMMARY:Shaping the Future Together: In Conversation with UBC President Benoit-Antoine Bacon
END:VEVENT
END:VCALENDAR