
BEGIN:VCALENDAR
VERSION:2.0
CALSCALE:GREGORIAN
BEGIN:VEVENT
URL;VALUE=URI:https://www.boardoftrade.com/events/7771
DTSTART:20240424T000000Z
DTEND:20240424T020000Z
UID:7771eventcalendar.boardoftrade.com
DTSTAMP:20260419T190942Z
LOCATION:The Vancouver Club 915 West Hastings St Vancouver
DESCRIPTION:Schedule: \nReception: 5:00 - 7:00 p.m.<br>   \n \nEvent Detail Page: https://www.boardoftrade.com/events/7771
X-ALT-DESC;FMTTYPE=text/html:<!doctype html><html><body><div>Schedule: <p>Reception: 5:00 - 7:00 p.m.<br>   </p></div>&nbsp\;<div>Event Detail Page: https://www.boardoftrade.com/events/7771</div></body></html>

SUMMARY:Explore The Vancouver Club
END:VEVENT
END:VCALENDAR