
BEGIN:VCALENDAR
VERSION:2.0
CALSCALE:GREGORIAN
BEGIN:VEVENT
URL;VALUE=URI:https://www.boardoftrade.com/events/7769
DTSTART:20240412T000000Z
DTEND:20240412T020000Z
UID:7769eventcalendar.boardoftrade.com
DTSTAMP:20260419T191032Z
LOCATION:Stefano Ricci Vancouver 1139 West Georgia Street Vancouver
DESCRIPTION:Schedule: \nReception: 5:00 - 7:00 p.m.<br> <hr> Private tailoring appointments available for GVBOT members with Livio during the daytime from Thursday April 11 to Saturday April 13 by contacting: <a href="mailto:vancouver@stefanoricci.com" target="_blank">vancouver@stefanoricci.com</a> or +1 (604) 559-7800 \n \nEvent Detail Page: https://www.boardoftrade.com/events/7769
X-ALT-DESC;FMTTYPE=text/html:<!doctype html><html><body><div>Schedule: <p>Reception: 5:00 - 7:00 p.m.<br> <hr> Private tailoring appointments available for GVBOT members with Livio during the daytime from Thursday April 11 to Saturday April 13 by contacting: <a href="mailto:vancouver@stefanoricci.com" target="_blank">vancouver@stefanoricci.com</a> or +1 (604) 559-7800 </p></div>&nbsp\;<div>Event Detail Page: https://www.boardoftrade.com/events/7769</div></body></html>

SUMMARY:Open House at Stefano Ricci
END:VEVENT
END:VCALENDAR