
BEGIN:VCALENDAR
VERSION:2.0
CALSCALE:GREGORIAN
BEGIN:VEVENT
URL;VALUE=URI:https://www.boardoftrade.com/events/7766
DTSTART:20240619T183000Z
DTEND:20240619T210000Z
UID:7766eventcalendar.boardoftrade.com
DTSTAMP:20260419T205434Z
LOCATION:Fairmont Hotel Vancouver BC Ballroom  900 W Georgia St.\, Vancouver
DESCRIPTION:Schedule: \nRegistration and Lunch:  11:30 a.m. - 12:30 p.m. \n Program:  12:30 - 2:00 p.m. \n \nEvent Detail Page: https://www.boardoftrade.com/events/7766
X-ALT-DESC;FMTTYPE=text/html:<!doctype html><html><body><div>Schedule: <p>Registration and Lunch:  11:30 a.m. - 12:30 p.m. <BR> Program:  12:30 - 2:00 p.m. </p></div>&nbsp\;<div>Event Detail Page: https://www.boardoftrade.com/events/7766</div></body></html>

SUMMARY:Reconciliation in Action: Annual Address with Musqueam\, Squamish and Tsleil-Waututh Nations
END:VEVENT
END:VCALENDAR