
BEGIN:VCALENDAR
VERSION:2.0
CALSCALE:GREGORIAN
BEGIN:VEVENT
URL;VALUE=URI:https://www.boardoftrade.com/events/7764
DTSTART:20240408T160000Z
DTEND:20240409T000000Z
UID:7764eventcalendar.boardoftrade.com
DTSTAMP:20260419T191049Z
LOCATION:Fairmont Hotel Vancouver Saturna Ballroom  900 W Georgia St\, Vancouver
DESCRIPTION:Schedule: \nRegistration: 8:30 - 9:00 a.m.\n Program: 9:00 - 11:45 a.m.\n Lunch: 11:45 a.m. - 1:00 p.m. \n Program: 1:00 – 5:00 p.m. \n \n \nEvent Detail Page: https://www.boardoftrade.com/events/7764
X-ALT-DESC;FMTTYPE=text/html:<!doctype html><html><body><div>Schedule: <p>Registration: 8:30 - 9:00 a.m.<BR> Program: 9:00 - 11:45 a.m.<BR> Lunch: 11:45 a.m. - 1:00 p.m. <BR> Program: 1:00 – 5:00 p.m. <BR> </p></div>&nbsp\;<div>Event Detail Page: https://www.boardoftrade.com/events/7764</div></body></html>

SUMMARY:Mining Disclosure in B.C.: What you need to know
END:VEVENT
END:VCALENDAR