
BEGIN:VCALENDAR
VERSION:2.0
CALSCALE:GREGORIAN
BEGIN:VEVENT
URL;VALUE=URI:https://www.boardoftrade.com/events/7763
DTSTART:20240604T183000Z
DTEND:20240604T203000Z
UID:7763eventcalendar.boardoftrade.com
DTSTAMP:20260419T191033Z
LOCATION:Vancouver Convention Centre West  Summit Level 3  1055 Canada Pl\, Vancouver
DESCRIPTION:Schedule: \nRegistration & Lunch: 11:30 a.m. - 12:30 p.m.\n Program: 12:30 – 1:30 p.m.\n \nEvent Detail Page: https://www.boardoftrade.com/events/7763
X-ALT-DESC;FMTTYPE=text/html:<!doctype html><html><body><div>Schedule: <p>Registration & Lunch: 11:30 a.m. - 12:30 p.m.<BR> Program: 12:30 – 1:30 p.m.</p></div>&nbsp\;<div>Event Detail Page: https://www.boardoftrade.com/events/7763</div></body></html>

SUMMARY:Countdown to the 111th Grey Cup with Randy Ambrosie
END:VEVENT
END:VCALENDAR