
BEGIN:VCALENDAR
VERSION:2.0
CALSCALE:GREGORIAN
BEGIN:VEVENT
URL;VALUE=URI:https://www.boardoftrade.com/events/7759
DTSTART:20240605T153000Z
DTEND:20240605T233000Z
UID:7759eventcalendar.boardoftrade.com
DTSTAMP:20260419T191411Z
LOCATION:SFU Morris J. Wosk Centre for Dialogue Room 420
DESCRIPTION:Event Detail Page: https://www.boardoftrade.com/events/7759
X-ALT-DESC;FMTTYPE=text/html:<!doctype html><html><body><div>Event Detail Page: https://www.boardoftrade.com/events/7759</div></body></html>

SUMMARY:Trade Accelerator Program - Women Led Cohort
END:VEVENT
END:VCALENDAR