
BEGIN:VCALENDAR
VERSION:2.0
CALSCALE:GREGORIAN
BEGIN:VEVENT
URL;VALUE=URI:https://www.boardoftrade.com/events/7756
DTSTART:20240313T170000Z
DTEND:20240313T180000Z
UID:7756eventcalendar.boardoftrade.com
DTSTAMP:20260419T191345Z
LOCATION:
DESCRIPTION:Schedule: \nOnline Program: 10:00 - 11:00 a.m. PT\n\n<i>You will be sent a Zoom link to participate in this event by 8:00 a.m. PT on the day of the event. Please don’t share the link as it will inhibit your ability to join.</i>\n \nEvent Detail Page: https://www.boardoftrade.com/events/7756
X-ALT-DESC;FMTTYPE=text/html:<!doctype html><html><body><div>Schedule: <p>Online Program: 10:00 - 11:00 a.m. PT<BR><BR><i>You will be sent a Zoom link to participate in this event by 8:00 a.m. PT on the day of the event. Please don’t share the link as it will inhibit your ability to join.</i></p></div>&nbsp\;<div>Event Detail Page: https://www.boardoftrade.com/events/7756</div></body></html>

SUMMARY:Prevent Forced Labour and Child Labour in Your Supply Chain
END:VEVENT
END:VCALENDAR