
BEGIN:VCALENDAR
VERSION:2.0
CALSCALE:GREGORIAN
BEGIN:VEVENT
URL;VALUE=URI:https://www.boardoftrade.com/events/7750
DTSTART:20240515T183000Z
DTEND:20240515T203000Z
UID:7750eventcalendar.boardoftrade.com
DTSTAMP:20260419T191125Z
LOCATION:Fairmont Hotel Vancouver | BC Ballroom  | 900 W Georgia St.\, Vancouver  | 
DESCRIPTION:Schedule: \nRegistration and Lunch:  11:30 a.m. - 12:30 p.m. \nProgram:  12:30 - 1:30 p.m. \n \nEvent Detail Page: https://www.boardoftrade.com/events/7750
X-ALT-DESC;FMTTYPE=text/html:<!doctype html><html><body><div>Schedule: <p>Registration and Lunch:  11:30 a.m. - 12:30 p.m. <BR>Program:  12:30 - 1:30 p.m. </p></div>&nbsp\;<div>Event Detail Page: https://www.boardoftrade.com/events/7750</div></body></html>

SUMMARY:Power Pathway: Building B.C.’s Energy Future
END:VEVENT
END:VCALENDAR