
BEGIN:VCALENDAR
VERSION:2.0
CALSCALE:GREGORIAN
BEGIN:VEVENT
URL;VALUE=URI:https://www.boardoftrade.com/events/7749
DTSTART:20240325T160000Z
DTEND:20240327T180000Z
UID:7749eventcalendar.boardoftrade.com
DTSTAMP:20260419T191125Z
LOCATION:
DESCRIPTION:Schedule: \n9 - 11 a.m. \n\n Session 1: Monday\, March 25 \n Session 2: Tuesday\, March 26 \n Session 3: Wednesday\, March 27\n \nEvent Detail Page: https://www.boardoftrade.com/events/7749
X-ALT-DESC;FMTTYPE=text/html:<!doctype html><html><body><div>Schedule: <p>9 - 11 a.m. <BR><BR> Session 1: Monday\, March 25 <BR> Session 2: Tuesday\, March 26 <BR> Session 3: Wednesday\, March 27</p></div>&nbsp\;<div>Event Detail Page: https://www.boardoftrade.com/events/7749</div></body></html>

SUMMARY:Diversity and Inclusion Training: IDEA Essentials 2.0
END:VEVENT
END:VCALENDAR