
BEGIN:VCALENDAR
VERSION:2.0
CALSCALE:GREGORIAN
BEGIN:VEVENT
URL;VALUE=URI:https://www.boardoftrade.com/events/7748
DTSTART:20240530T223000Z
DTEND:20240531T004500Z
UID:7748eventcalendar.boardoftrade.com
DTSTAMP:20260419T191114Z
LOCATION:Fairmont Waterfront Mackenzie Ballroom  900 Canada Place 
DESCRIPTION:Schedule: \nRegistration & Reception: 3:30  - 4:30 p.m. \n Program: 4:30 – 5:45 p.m.\n \nEvent Detail Page: https://www.boardoftrade.com/events/7748
X-ALT-DESC;FMTTYPE=text/html:<!doctype html><html><body><div>Schedule: <p>Registration & Reception: 3:30  - 4:30 p.m. <BR> Program: 4:30 – 5:45 p.m.</p></div>&nbsp\;<div>Event Detail Page: https://www.boardoftrade.com/events/7748</div></body></html>

SUMMARY:The Future of Life Sciences in Canada: Growing Sustainable Anchor Companies
END:VEVENT
END:VCALENDAR