
BEGIN:VCALENDAR
VERSION:2.0
CALSCALE:GREGORIAN
BEGIN:VEVENT
URL;VALUE=URI:https://www.boardoftrade.com/events/7746
DTSTART:20240209T010000Z
DTEND:20240209T030000Z
UID:7746eventcalendar.boardoftrade.com
DTSTAMP:20260419T191113Z
LOCATION:Surmesur Vancouver 1012 Mainland St Vancouver
DESCRIPTION:Schedule: \nReception: 5:00 - 7:00 p.m.<br>\n \nEvent Detail Page: https://www.boardoftrade.com/events/7746
X-ALT-DESC;FMTTYPE=text/html:<!doctype html><html><body><div>Schedule: <p>Reception: 5:00 - 7:00 p.m.<br></p></div>&nbsp\;<div>Event Detail Page: https://www.boardoftrade.com/events/7746</div></body></html>

SUMMARY:Members' Social with Surmesur Vancouver
END:VEVENT
END:VCALENDAR