
BEGIN:VCALENDAR
VERSION:2.0
CALSCALE:GREGORIAN
BEGIN:VEVENT
URL;VALUE=URI:https://www.boardoftrade.com/events/7745
DTSTART:20240405T143000Z
DTEND:20240405T190000Z
UID:7745eventcalendar.boardoftrade.com
DTSTAMP:20260419T190940Z
LOCATION:Fairmont Waterfront Hotel Waterfront Ballroom  900 Canada Pl\, Vancouver
DESCRIPTION:Schedule: \nRegistration and Breakfast:  7:30  - 8:00 a.m. PT\n Program:  8:00 a.m. - 12:00 p.m. PT\n\n <a href="https://www.boardoftrade.com/files/events/digital-agenda.pdf" target="_blank">Full Agenda(PDF)</a>\n \nEvent Detail Page: https://www.boardoftrade.com/events/7745
X-ALT-DESC;FMTTYPE=text/html:<!doctype html><html><body><div>Schedule: <p>Registration and Breakfast:  7:30  - 8:00 a.m. PT<BR> Program:  8:00 a.m. - 12:00 p.m. PT<BR><BR> <a href="https://www.boardoftrade.com/files/events/digital-agenda.pdf" target="_blank">Full Agenda(PDF)</a></p></div>&nbsp\;<div>Event Detail Page: https://www.boardoftrade.com/events/7745</div></body></html>

SUMMARY:Major Projects Forum 2024 Presented by KPMG
END:VEVENT
END:VCALENDAR