
BEGIN:VCALENDAR
VERSION:2.0
CALSCALE:GREGORIAN
BEGIN:VEVENT
URL;VALUE=URI:https://www.boardoftrade.com/events/7744
DTSTART:20240523T143000Z
DTEND:20240523T190000Z
UID:7744eventcalendar.boardoftrade.com
DTSTAMP:20260419T192835Z
LOCATION:Pan Pacific Hotel Crystal Pavilion Ballroom 999 Canada Place\, Vancouver
DESCRIPTION:Schedule: \nRegistration & Breakfast:  7:30 - 8:00 a.m.\n Program:  8:00 a.m. - 12:00 p.m.\n\n \n \nEvent Detail Page: https://www.boardoftrade.com/events/7744
X-ALT-DESC;FMTTYPE=text/html:<!doctype html><html><body><div>Schedule: <p>Registration & Breakfast:  7:30 - 8:00 a.m.<BR> Program:  8:00 a.m. - 12:00 p.m.<BR><BR> </p></div>&nbsp\;<div>Event Detail Page: https://www.boardoftrade.com/events/7744</div></body></html>

SUMMARY:Transportation Forum 2024 Presented by Deloitte
END:VEVENT
END:VCALENDAR