
BEGIN:VCALENDAR
VERSION:2.0
CALSCALE:GREGORIAN
BEGIN:VEVENT
URL;VALUE=URI:https://www.boardoftrade.com/events/7740
DTSTART:20240314T233000Z
DTEND:20240315T013000Z
UID:7740eventcalendar.boardoftrade.com
DTSTAMP:20260419T191032Z
LOCATION:Langara College  Science & Technology Building Gallery\, 2nd Floor  100 West 49th Avenue Vancouver
DESCRIPTION:Schedule: \nRegistration and Reception: 4:30 – 5:00 p.m. <br> Program: 5:00 – 6:00 p.m.<br> Open Networking: 6:00 – 6:30 p.m.<br>\n \nEvent Detail Page: https://www.boardoftrade.com/events/7740
X-ALT-DESC;FMTTYPE=text/html:<!doctype html><html><body><div>Schedule: <p>Registration and Reception: 4:30 – 5:00 p.m. <br> Program: 5:00 – 6:00 p.m.<br> Open Networking: 6:00 – 6:30 p.m.<br></p></div>&nbsp\;<div>Event Detail Page: https://www.boardoftrade.com/events/7740</div></body></html>

SUMMARY:Start-Up Sparks: A Journey to Entrepreneurial Brilliance
END:VEVENT
END:VCALENDAR