
BEGIN:VCALENDAR
VERSION:2.0
CALSCALE:GREGORIAN
BEGIN:VEVENT
URL;VALUE=URI:https://www.boardoftrade.com/events/7739
DTSTART:20240725T170000Z
DTEND:20240726T020000Z
UID:7739eventcalendar.boardoftrade.com
DTSTAMP:20260419T205419Z
LOCATION:Westwood Plateau Golf & Country Club 3251 Plateau Boulevard Coquitlam\, B.C.
DESCRIPTION:Schedule: \nRegistration:  10:00 a.m. PT \nShotgun Start:  11:00 a.m. PT \nDinner and Awards: 5:00 - 7:00 p.m. PT\n \nEvent Detail Page: https://www.boardoftrade.com/events/7739
X-ALT-DESC;FMTTYPE=text/html:<!doctype html><html><body><div>Schedule: <p>Registration:  10:00 a.m. PT <BR>Shotgun Start:  11:00 a.m. PT <BR>Dinner and Awards: 5:00 - 7:00 p.m. PT</p></div>&nbsp\;<div>Event Detail Page: https://www.boardoftrade.com/events/7739</div></body></html>

SUMMARY:Pro-Am Golf Tournament 2024
END:VEVENT
END:VCALENDAR