
BEGIN:VCALENDAR
VERSION:2.0
CALSCALE:GREGORIAN
BEGIN:VEVENT
URL;VALUE=URI:https://www.boardoftrade.com/events/7738
DTSTART:20240305T233000Z
DTEND:20240306T013000Z
UID:7738eventcalendar.boardoftrade.com
DTSTAMP:20260419T191218Z
LOCATION:Fairmont Waterfront Mackenzie Ballroom  900 Canada Place  Vancouver
DESCRIPTION:Schedule: \nRegistration & Reception: 3:30 p.m. - 4:30 p.m. PT \n Program: 4:30 – 5:30 p.m. PT\n \nEvent Detail Page: https://www.boardoftrade.com/events/7738
X-ALT-DESC;FMTTYPE=text/html:<!doctype html><html><body><div>Schedule: <p>Registration & Reception: 3:30 p.m. - 4:30 p.m. PT <BR> Program: 4:30 – 5:30 p.m. PT</p></div>&nbsp\;<div>Event Detail Page: https://www.boardoftrade.com/events/7738</div></body></html>

SUMMARY:A Conversation with Kevin Falcon
END:VEVENT
END:VCALENDAR