
BEGIN:VCALENDAR
VERSION:2.0
CALSCALE:GREGORIAN
BEGIN:VEVENT
URL;VALUE=URI:https://www.boardoftrade.com/events/7736
DTSTART:20240213T153000Z
DTEND:20240213T173000Z
UID:7736eventcalendar.boardoftrade.com
DTSTAMP:20260419T191210Z
LOCATION:Fairmont Hotel Vancouver - Pacific Ballroom  900 W Georgia St  Vancouver
DESCRIPTION:Schedule: \nRegistration and Breakfast:  7:30 a.m. - 8:00 a.m. PT\nProgram:  8:00 a.m. - 9:30 a.m. PT\n \nEvent Detail Page: https://www.boardoftrade.com/events/7736
X-ALT-DESC;FMTTYPE=text/html:<!doctype html><html><body><div>Schedule: <p>Registration and Breakfast:  7:30 a.m. - 8:00 a.m. PT<BR>Program:  8:00 a.m. - 9:30 a.m. PT</p></div>&nbsp\;<div>Event Detail Page: https://www.boardoftrade.com/events/7736</div></body></html>

SUMMARY:Consumer Trends:  Develop Stronger Relationships with Customers
END:VEVENT
END:VCALENDAR