
BEGIN:VCALENDAR
VERSION:2.0
CALSCALE:GREGORIAN
BEGIN:VEVENT
URL;VALUE=URI:https://www.boardoftrade.com/events/7735
DTSTART:20240127T010000Z
DTEND:20240127T030000Z
UID:7735eventcalendar.boardoftrade.com
DTSTAMP:20260419T173003Z
LOCATION:KPU Surrey Campus  Spruce Atrium 12666 72 Avenue Surrey
DESCRIPTION:Schedule: \nRegistration and Reception: 5:00 – 5:30 p.m. <br> Presentation: 5:30 – 6:10 p.m.<br> Q&A: 6:10 – 6:30 p.m.<br> Open Networking: 6:30  – 7:00 p.m.\n \nEvent Detail Page: https://www.boardoftrade.com/events/7735
X-ALT-DESC;FMTTYPE=text/html:<!doctype html><html><body><div>Schedule: <p>Registration and Reception: 5:00 – 5:30 p.m. <br> Presentation: 5:30 – 6:10 p.m.<br> Q&A: 6:10 – 6:30 p.m.<br> Open Networking: 6:30  – 7:00 p.m.</p></div>&nbsp\;<div>Event Detail Page: https://www.boardoftrade.com/events/7735</div></body></html>

SUMMARY:Navigating the Future: Career Development in 2040
END:VEVENT
END:VCALENDAR