
BEGIN:VCALENDAR
VERSION:2.0
CALSCALE:GREGORIAN
BEGIN:VEVENT
URL;VALUE=URI:https://www.boardoftrade.com/events/7733
DTSTART:20240222T010000Z
DTEND:20240222T030000Z
UID:7733eventcalendar.boardoftrade.com
DTSTAMP:20260419T191049Z
LOCATION:Deloitte Summit (23rd Floor) 410 W. Georgia Street Vancouver
DESCRIPTION:Schedule: \nRegistration and Reception: 5:00 – 5:30 p.m. <br> Presentation: 5:30 – 6:00 p.m.<br> Q&A: 6:00 – 6:30 p.m.<br> Open Networking: 6:30  – 7:00 p.m.\n \nEvent Detail Page: https://www.boardoftrade.com/events/7733
X-ALT-DESC;FMTTYPE=text/html:<!doctype html><html><body><div>Schedule: <p>Registration and Reception: 5:00 – 5:30 p.m. <br> Presentation: 5:30 – 6:00 p.m.<br> Q&A: 6:00 – 6:30 p.m.<br> Open Networking: 6:30  – 7:00 p.m.</p></div>&nbsp\;<div>Event Detail Page: https://www.boardoftrade.com/events/7733</div></body></html>

SUMMARY:Future-Ready Career Paths: Bridging Leadership and Technology
END:VEVENT
END:VCALENDAR