
BEGIN:VCALENDAR
VERSION:2.0
CALSCALE:GREGORIAN
BEGIN:VEVENT
URL;VALUE=URI:https://www.boardoftrade.com/events/7731
DTSTART:20240307T163000Z
DTEND:20240308T003000Z
UID:7731eventcalendar.boardoftrade.com
DTSTAMP:20260419T191237Z
LOCATION:SFU | Segal Graduate School of Business 500 Granville St\, Vancouver
DESCRIPTION:Schedule: \nLight Breakfast & Registration: 8:30  - 9:00 a.m. \nProgram: 9:00 a.m. - 12:30 p.m.\nNetworking Lunch: 12:30 - 1:30 p.m.\nProgram: 1:00 - 4:30 p.m.\n  \n \nEvent Detail Page: https://www.boardoftrade.com/events/7731
X-ALT-DESC;FMTTYPE=text/html:<!doctype html><html><body><div>Schedule: <p><P>Light Breakfast & Registration: 8:30  - 9:00 a.m. <BR>Program: 9:00 a.m. - 12:30 p.m.<BR>Networking Lunch: 12:30 - 1:30 p.m.<BR>Program: 1:00 - 4:30 p.m.</P>  </p></div>&nbsp\;<div>Event Detail Page: https://www.boardoftrade.com/events/7731</div></body></html>

SUMMARY:Digital Transformation Workshop
END:VEVENT
END:VCALENDAR