
BEGIN:VCALENDAR
VERSION:2.0
CALSCALE:GREGORIAN
BEGIN:VEVENT
URL;VALUE=URI:https://www.boardoftrade.com/events/7729
DTSTART:20240228T010000Z
DTEND:20240228T030000Z
UID:7729eventcalendar.boardoftrade.com
DTSTAMP:20260419T191115Z
LOCATION:Chinese Canadian Museum 3rd Floor 51 E Pender St Vancouver
DESCRIPTION:Schedule: \nReception: 5:00 - 7:00 p.m.<br>\n \nEvent Detail Page: https://www.boardoftrade.com/events/7729
X-ALT-DESC;FMTTYPE=text/html:<!doctype html><html><body><div>Schedule: <p>Reception: 5:00 - 7:00 p.m.<br></p></div>&nbsp\;<div>Event Detail Page: https://www.boardoftrade.com/events/7729</div></body></html>

SUMMARY:After Hours at the Chinese Canadian Museum
END:VEVENT
END:VCALENDAR