
BEGIN:VCALENDAR
VERSION:2.0
CALSCALE:GREGORIAN
BEGIN:VEVENT
URL;VALUE=URI:https://www.boardoftrade.com/events/7719
DTSTART:20231212T010000Z
DTEND:20231212T030000Z
UID:7719eventcalendar.boardoftrade.com
DTSTAMP:20260419T174447Z
LOCATION:And-Co 1575 West Georgia St. Vancouver
DESCRIPTION:Schedule: \nRegistration and Reception: 5:00 – 5:30 p.m. <br> Presentation: 5:30 – 6:10 p.m.<br> Q&A: 6:10 – 6:30 p.m.<br> Open Networking: 6:30  – 7:00 p.m.\n \nEvent Detail Page: https://www.boardoftrade.com/events/7719
X-ALT-DESC;FMTTYPE=text/html:<!doctype html><html><body><div>Schedule: <p>Registration and Reception: 5:00 – 5:30 p.m. <br> Presentation: 5:30 – 6:10 p.m.<br> Q&A: 6:10 – 6:30 p.m.<br> Open Networking: 6:30  – 7:00 p.m.</p></div>&nbsp\;<div>Event Detail Page: https://www.boardoftrade.com/events/7719</div></body></html>

SUMMARY:Fearless Networking: Mastering the skills of the expert networker
END:VEVENT
END:VCALENDAR