
BEGIN:VCALENDAR
VERSION:2.0
CALSCALE:GREGORIAN
BEGIN:VEVENT
URL;VALUE=URI:https://www.boardoftrade.com/events/7718
DTSTART:20240226T170000Z
DTEND:20240301T190000Z
UID:7718eventcalendar.boardoftrade.com
DTSTAMP:20260419T191258Z
LOCATION:
DESCRIPTION:Schedule: \n9 - 11 a.m. \n\n Session 1: Monday\, February 26 \n Session 2: Tuesday\, February 27 \n Session 3: Wednesday\, February 28 \n Session 4: Thursday\, February 29 \n Session 5: Friday\, March 1\n \nEvent Detail Page: https://www.boardoftrade.com/events/7718
X-ALT-DESC;FMTTYPE=text/html:<!doctype html><html><body><div>Schedule: <p>9 - 11 a.m. <BR><BR> Session 1: Monday\, February 26 <BR> Session 2: Tuesday\, February 27 <BR> Session 3: Wednesday\, February 28 <BR> Session 4: Thursday\, February 29 <BR> Session 5: Friday\, March 1</p></div>&nbsp\;<div>Event Detail Page: https://www.boardoftrade.com/events/7718</div></body></html>

SUMMARY:Building an Inclusive Workplace Certificate Program
END:VEVENT
END:VCALENDAR