
BEGIN:VCALENDAR
VERSION:2.0
CALSCALE:GREGORIAN
BEGIN:VEVENT
URL;VALUE=URI:https://www.boardoftrade.com/events/7716
DTSTART:20240131T230000Z
DTEND:20240201T010000Z
UID:7716eventcalendar.boardoftrade.com
DTSTAMP:20260419T140440Z
LOCATION:And-Co  1575 W Georgia Street  Vancouver
DESCRIPTION:Schedule: \nRegistration & Networking: 3:00  - 4:00 p.m.\nProgram and Q&A: 4:00 - 5:00 p.m.\n \nEvent Detail Page: https://www.boardoftrade.com/events/7716
X-ALT-DESC;FMTTYPE=text/html:<!doctype html><html><body><div>Schedule: <p>Registration & Networking: 3:00  - 4:00 p.m.<BR>Program and Q&A: 4:00 - 5:00 p.m.</p></div>&nbsp\;<div>Event Detail Page: https://www.boardoftrade.com/events/7716</div></body></html>

SUMMARY:Navigating the Social Media Landscape: Trends and Insights for 2024
END:VEVENT
END:VCALENDAR