
BEGIN:VCALENDAR
VERSION:2.0
CALSCALE:GREGORIAN
BEGIN:VEVENT
URL;VALUE=URI:https://www.boardoftrade.com/events/7715
DTSTART:20240227T163000Z
DTEND:20240227T180000Z
UID:7715eventcalendar.boardoftrade.com
DTSTAMP:20260419T191345Z
LOCATION:BDC Business Centre  Suite 1500 - 1133 Melville Street  Vancouver
DESCRIPTION:Schedule: \nRegistration\, Breakfast & Networking: 8:30  - 9:00 a.m.\nProgram and Q&A: 9:00 - 10:00 a.m.\n \nEvent Detail Page: https://www.boardoftrade.com/events/7715
X-ALT-DESC;FMTTYPE=text/html:<!doctype html><html><body><div>Schedule: <p>Registration\, Breakfast & Networking: 8:30  - 9:00 a.m.<BR>Program and Q&A: 9:00 - 10:00 a.m.</p></div>&nbsp\;<div>Event Detail Page: https://www.boardoftrade.com/events/7715</div></body></html>

SUMMARY:The Right Fit: Find the Right People and Right Seats for Your Business
END:VEVENT
END:VCALENDAR