
BEGIN:VCALENDAR
VERSION:2.0
CALSCALE:GREGORIAN
BEGIN:VEVENT
URL;VALUE=URI:https://www.boardoftrade.com/events/7713
DTSTART:20231114T153000Z
DTEND:20231114T170000Z
UID:7713eventcalendar.boardoftrade.com
DTSTAMP:20260419T174354Z
LOCATION:TELUS Garden - 5th Floor Flex Space  510 W Georgia St.  Vancouver\, BC
DESCRIPTION:Schedule: \nRegistration & Breakfast: 7:30 - 8:00 a.m. PT\n Program: 8:00 - 9:00 a.m. PT \n \nEvent Detail Page: https://www.boardoftrade.com/events/7713
X-ALT-DESC;FMTTYPE=text/html:<!doctype html><html><body><div>Schedule: <p>Registration & Breakfast: 7:30 - 8:00 a.m. PT<BR> Program: 8:00 - 9:00 a.m. PT </p></div>&nbsp\;<div>Event Detail Page: https://www.boardoftrade.com/events/7713</div></body></html>

SUMMARY:A Conversation with Minister Champagne
END:VEVENT
END:VCALENDAR