
BEGIN:VCALENDAR
VERSION:2.0
CALSCALE:GREGORIAN
BEGIN:VEVENT
URL;VALUE=URI:https://www.boardoftrade.com/events/7706
DTSTART:20240221T170000Z
DTEND:20240222T010000Z
UID:7706eventcalendar.boardoftrade.com
DTSTAMP:20260419T191113Z
LOCATION:BCIT Downtown Campus
DESCRIPTION:Event Detail Page: https://www.boardoftrade.com/events/7706
X-ALT-DESC;FMTTYPE=text/html:<!doctype html><html><body><div>Event Detail Page: https://www.boardoftrade.com/events/7706</div></body></html>

SUMMARY:Trade Accelerator Program - Greater Vancouver Cohort
END:VEVENT
END:VCALENDAR