
BEGIN:VCALENDAR
VERSION:2.0
CALSCALE:GREGORIAN
BEGIN:VEVENT
URL;VALUE=URI:https://www.boardoftrade.com/events/7705
DTSTART:20231117T003000Z
DTEND:20231117T033000Z
UID:7705eventcalendar.boardoftrade.com
DTSTAMP:20260419T171703Z
LOCATION:Sportsbar Live!  Roger's Arena 99 West Georgia st Vancouver
DESCRIPTION:Schedule: \n 4:30 - 7:30 p.m.\n \nEvent Detail Page: https://www.boardoftrade.com/events/7705
X-ALT-DESC;FMTTYPE=text/html:<!doctype html><html><body><div>Schedule: <p> 4:30 - 7:30 p.m.</p></div>&nbsp\;<div>Event Detail Page: https://www.boardoftrade.com/events/7705</div></body></html>

SUMMARY:Vancouver Canucks Open House
END:VEVENT
END:VCALENDAR