
BEGIN:VCALENDAR
VERSION:2.0
CALSCALE:GREGORIAN
BEGIN:VEVENT
URL;VALUE=URI:https://www.boardoftrade.com/events/7702
DTSTART:20240122T170000Z
DTEND:20240122T190000Z
UID:7702eventcalendar.boardoftrade.com
DTSTAMP:20260419T171844Z
LOCATION:
DESCRIPTION:Schedule: \n9 - 11 a.m. \n\n Session 1: Monday\, January 22 \n Session 2: Tuesday\, January 23 \n Session 3: Wednesday\, January 24\n \nEvent Detail Page: https://www.boardoftrade.com/events/7702
X-ALT-DESC;FMTTYPE=text/html:<!doctype html><html><body><div>Schedule: <p>9 - 11 a.m. <BR><BR> Session 1: Monday\, January 22 <BR> Session 2: Tuesday\, January 23 <BR> Session 3: Wednesday\, January 24</p></div>&nbsp\;<div>Event Detail Page: https://www.boardoftrade.com/events/7702</div></body></html>

SUMMARY:Diversity and Inclusion Training: IDEA Essentials 1.0
END:VEVENT
END:VCALENDAR