
BEGIN:VCALENDAR
VERSION:2.0
CALSCALE:GREGORIAN
BEGIN:VEVENT
URL;VALUE=URI:https://www.boardoftrade.com/events/7695
DTSTART:20231003T160000Z
DTEND:20231003T174500Z
UID:7695eventcalendar.boardoftrade.com
DTSTAMP:20260419T174502Z
LOCATION:Deloitte Summit - Level 23  410 West Georgia Street Vancouver
DESCRIPTION:Schedule: \nRegistration: 9:00 - 9:30 a.m. PT\n Program: 9:30 - 10:45 a.m. PT\n \n \nEvent Detail Page: https://www.boardoftrade.com/events/7695
X-ALT-DESC;FMTTYPE=text/html:<!doctype html><html><body><div>Schedule: <p>Registration: 9:00 - 9:30 a.m. PT<BR> Program: 9:30 - 10:45 a.m. PT<BR> </p></div>&nbsp\;<div>Event Detail Page: https://www.boardoftrade.com/events/7695</div></body></html>

SUMMARY:Charting the Future of Transportation in the Region
END:VEVENT
END:VCALENDAR