
BEGIN:VCALENDAR
VERSION:2.0
CALSCALE:GREGORIAN
BEGIN:VEVENT
URL;VALUE=URI:https://www.boardoftrade.com/events/7689
DTSTART:20231024T203000Z
DTEND:20231025T000000Z
UID:7689eventcalendar.boardoftrade.com
DTSTAMP:20260419T173433Z
LOCATION:Hinge Park 215 W 1st Ave St Vancouver
DESCRIPTION:Schedule: \nShoreline cleanup: 1:30 - 3:30 <br> Social at Craft Beer Market: 3:30 - 5:00 p.m. <br> \n \nEvent Detail Page: https://www.boardoftrade.com/events/7689
X-ALT-DESC;FMTTYPE=text/html:<!doctype html><html><body><div>Schedule: <p>Shoreline cleanup: 1:30 - 3:30 <br> Social at Craft Beer Market: 3:30 - 5:00 p.m. <br> </p></div>&nbsp\;<div>Event Detail Page: https://www.boardoftrade.com/events/7689</div></body></html>

SUMMARY:Member Shoreline Cleanup with Oceanwise
END:VEVENT
END:VCALENDAR