
BEGIN:VCALENDAR
VERSION:2.0
CALSCALE:GREGORIAN
BEGIN:VEVENT
URL;VALUE=URI:https://www.boardoftrade.com/events/7688
DTSTART:20231130T193000Z
DTEND:20231130T213000Z
UID:7688eventcalendar.boardoftrade.com
DTSTAMP:20260419T173249Z
LOCATION:Fairmont Hotel Vancouver | Pacific Ballroom  | 900 W Georgia St.\, Vancouver  | 
DESCRIPTION:Schedule: \nRegistration and Lunch:  11:30 a.m. - 12:30 p.m. PT\nProgram:  12:30 - 1:30 p.m. PT\n \nEvent Detail Page: https://www.boardoftrade.com/events/7688
X-ALT-DESC;FMTTYPE=text/html:<!doctype html><html><body><div>Schedule: <p>Registration and Lunch:  11:30 a.m. - 12:30 p.m. PT<BR>Program:  12:30 - 1:30 p.m. PT</p></div>&nbsp\;<div>Event Detail Page: https://www.boardoftrade.com/events/7688</div></body></html>

SUMMARY:TransLink’s Annual Address: Grappling with Growth
END:VEVENT
END:VCALENDAR