
BEGIN:VCALENDAR
VERSION:2.0
CALSCALE:GREGORIAN
BEGIN:VEVENT
URL;VALUE=URI:https://www.boardoftrade.com/events/7684
DTSTART:20240126T153000Z
DTEND:20240126T200000Z
UID:7684eventcalendar.boardoftrade.com
DTSTAMP:20260419T173014Z
LOCATION:Sheraton Vancouver Wall Centre Grand Ballroom 1000 Burrard Street\, Vancouver
DESCRIPTION:Schedule: \nRegistration & Breakfast:  7:30 - 8:00 a.m.\n Program:  8:00 a.m. - 12:00 p.m.\n \n \nEvent Detail Page: https://www.boardoftrade.com/events/7684
X-ALT-DESC;FMTTYPE=text/html:<!doctype html><html><body><div>Schedule: <p>Registration & Breakfast:  7:30 - 8:00 a.m.<BR> Program:  8:00 a.m. - 12:00 p.m.<BR> </p></div>&nbsp\;<div>Event Detail Page: https://www.boardoftrade.com/events/7684</div></body></html>

SUMMARY:Economic Outlook Forum 2024 Presented by Scotiabank
END:VEVENT
END:VCALENDAR