
BEGIN:VCALENDAR
VERSION:2.0
CALSCALE:GREGORIAN
BEGIN:VEVENT
URL;VALUE=URI:https://www.boardoftrade.com/events/7682
DTSTART:20231115T010000Z
DTEND:20231115T030000Z
UID:7682eventcalendar.boardoftrade.com
DTSTAMP:20260419T171709Z
LOCATION:BCIT Tech Collider  555 Seymour Street (2nd Floor)  Vancouver
DESCRIPTION:Schedule: \nRegistration and Reception: 5:00 – 5:30 p.m.<br> Presentation and Q&A: 5:30 – 6:30 p.m.<br> Open Networking with WSP Leaders and HR: 6:30 – 7:00 p.m. \n \nEvent Detail Page: https://www.boardoftrade.com/events/7682
X-ALT-DESC;FMTTYPE=text/html:<!doctype html><html><body><div>Schedule: <p>Registration and Reception: 5:00 – 5:30 p.m.<br> Presentation and Q&A: 5:30 – 6:30 p.m.<br> Open Networking with WSP Leaders and HR: 6:30 – 7:00 p.m. </p></div>&nbsp\;<div>Event Detail Page: https://www.boardoftrade.com/events/7682</div></body></html>

SUMMARY:Nurturing ESG for a Sustainable Tomorrow
END:VEVENT
END:VCALENDAR