
BEGIN:VCALENDAR
VERSION:2.0
CALSCALE:GREGORIAN
BEGIN:VEVENT
URL;VALUE=URI:https://www.boardoftrade.com/events/7681
DTSTART:20240423T004500Z
DTEND:20240423T043000Z
UID:7681eventcalendar.boardoftrade.com
DTSTAMP:20260419T191427Z
LOCATION:Vancouver Convention Centre - West  1055 Canada Place\,  Vancouver
DESCRIPTION:Schedule: \nCocktail Reception:  5:45 p.m. <br>Dinner & Awards:  6:30 - 8:30 p.m. <br>Dessert Reception:  8:30 - 9:30 p.m. <br> <br><p> <a href="/files/events/2024/gov-gala/digital-gg-program-2024.pdf" target="_blank">Download Program</a></p>\n \nEvent Detail Page: https://www.boardoftrade.com/events/7681
X-ALT-DESC;FMTTYPE=text/html:<!doctype html><html><body><div>Schedule: <p>Cocktail Reception:  5:45 p.m. <br>Dinner & Awards:  6:30 - 8:30 p.m. <br>Dessert Reception:  8:30 - 9:30 p.m. <br> <br><p> <a href="https://www.boardoftrade.com/files/events/2024/gov-gala/digital-gg-program-2024.pdf" target="_blank">Download Program</a></p></p></div>&nbsp\;<div>Event Detail Page: https://www.boardoftrade.com/events/7681</div></body></html>

SUMMARY:Governors' Gala & Rix Awards 2024
END:VEVENT
END:VCALENDAR