
BEGIN:VCALENDAR
VERSION:2.0
CALSCALE:GREGORIAN
BEGIN:VEVENT
URL;VALUE=URI:https://www.boardoftrade.com/events/7680
DTSTART:20231021T000000Z
DTEND:20231021T020000Z
UID:7680eventcalendar.boardoftrade.com
DTSTAMP:20260419T174342Z
LOCATION:
DESCRIPTION:Schedule: \nOnline Program: 5:00 – 7:00 p.m. PT\n \n  <em>All registered students will be sent a Zoom link to participate in this event by 2:00 p.m. PT on Friday\, October 20.</em>\n \nEvent Detail Page: https://www.boardoftrade.com/events/7680
X-ALT-DESC;FMTTYPE=text/html:<!doctype html><html><body><div>Schedule: <p>Online Program: 5:00 – 7:00 p.m. PT<BR> <BR>  <em>All registered students will be sent a Zoom link to participate in this event by 2:00 p.m. PT on Friday\, October 20.</em></p></div>&nbsp\;<div>Event Detail Page: https://www.boardoftrade.com/events/7680</div></body></html>

SUMMARY:Bringing Your A-GAME to Your Team
END:VEVENT
END:VCALENDAR