
BEGIN:VCALENDAR
VERSION:2.0
CALSCALE:GREGORIAN
BEGIN:VEVENT
URL;VALUE=URI:https://www.boardoftrade.com/events/7679
DTSTART:20240208T230000Z
DTEND:20240209T010000Z
UID:7679eventcalendar.boardoftrade.com
DTSTAMP:20260419T171637Z
LOCATION:And-Co  1575 W Georgia Street  Vancouver
DESCRIPTION:Schedule: \nRegistration & Networking: 3:00  - 4:00 p.m.\nProgram and Q&A: 4:00 - 5:00 p.m.\n \nEvent Detail Page: https://www.boardoftrade.com/events/7679
X-ALT-DESC;FMTTYPE=text/html:<!doctype html><html><body><div>Schedule: <p>Registration & Networking: 3:00  - 4:00 p.m.<BR>Program and Q&A: 4:00 - 5:00 p.m.</p></div>&nbsp\;<div>Event Detail Page: https://www.boardoftrade.com/events/7679</div></body></html>

SUMMARY:Managing the Unknown: Practical Tactics for Successful Risk Management
END:VEVENT
END:VCALENDAR