
BEGIN:VCALENDAR
VERSION:2.0
CALSCALE:GREGORIAN
BEGIN:VEVENT
URL;VALUE=URI:https://www.boardoftrade.com/events/7678
DTSTART:20231120T170000Z
DTEND:20231120T190000Z
UID:7678eventcalendar.boardoftrade.com
DTSTAMP:20260419T173432Z
LOCATION:
DESCRIPTION:Schedule: \n9 - 11 a.m. \n\n Session 1: Monday\, November 20 \n Session 2: Tuesday\, November 21 \n Session 3: Wednesday\, November 22\n \nEvent Detail Page: https://www.boardoftrade.com/events/7678
X-ALT-DESC;FMTTYPE=text/html:<!doctype html><html><body><div>Schedule: <p>9 - 11 a.m. <BR><BR> Session 1: Monday\, November 20 <BR> Session 2: Tuesday\, November 21 <BR> Session 3: Wednesday\, November 22</p></div>&nbsp\;<div>Event Detail Page: https://www.boardoftrade.com/events/7678</div></body></html>

SUMMARY:Diversity and Inclusion Training: IDEA Essentials 2.0
END:VEVENT
END:VCALENDAR