
BEGIN:VCALENDAR
VERSION:2.0
CALSCALE:GREGORIAN
BEGIN:VEVENT
URL;VALUE=URI:https://www.boardoftrade.com/events/7676
DTSTART:20231107T160000Z
DTEND:20231107T170000Z
UID:7676eventcalendar.boardoftrade.com
DTSTAMP:20260419T174446Z
LOCATION:
DESCRIPTION:Schedule: \nOnline Program 8:00 - 9:00 a.m. PT\n \nEvent Detail Page: https://www.boardoftrade.com/events/7676
X-ALT-DESC;FMTTYPE=text/html:<!doctype html><html><body><div>Schedule: <p>Online Program 8:00 - 9:00 a.m. PT</p></div>&nbsp\;<div>Event Detail Page: https://www.boardoftrade.com/events/7676</div></body></html>

SUMMARY:136th Annual General Meeting
END:VEVENT
END:VCALENDAR