
BEGIN:VCALENDAR
VERSION:2.0
CALSCALE:GREGORIAN
BEGIN:VEVENT
URL;VALUE=URI:https://www.boardoftrade.com/events/7673
DTSTART:20231013T000000Z
DTEND:20231013T020000Z
UID:7673eventcalendar.boardoftrade.com
DTSTAMP:20260419T173255Z
LOCATION:Charitable Impact 1250 - 1500 W Georgia St Vancouver
DESCRIPTION:Schedule: \n5:00 - 7:00 p.m. \n \nEvent Detail Page: https://www.boardoftrade.com/events/7673
X-ALT-DESC;FMTTYPE=text/html:<!doctype html><html><body><div>Schedule: <p>5:00 - 7:00 p.m. </p></div>&nbsp\;<div>Event Detail Page: https://www.boardoftrade.com/events/7673</div></body></html>

SUMMARY:Charitable Impact
END:VEVENT
END:VCALENDAR