
BEGIN:VCALENDAR
VERSION:2.0
CALSCALE:GREGORIAN
BEGIN:VEVENT
URL;VALUE=URI:https://www.boardoftrade.com/events/7671
DTSTART:20231011T223000Z
DTEND:20231012T020000Z
UID:7671eventcalendar.boardoftrade.com
DTSTAMP:20260421T095645Z
LOCATION:Terminal City Club The Metropolitan Ballroom 837 West Hastings St. Vancouver
DESCRIPTION:Schedule: \nRegistration: 3:30 – 4:00 p.m. \n Program: 4:00 –  6:30 p.m. \n Networking Reception: 6:30 p.m. - 7:30 p.m\n \nEvent Detail Page: https://www.boardoftrade.com/events/7671
X-ALT-DESC;FMTTYPE=text/html:<!doctype html><html><body><div>Schedule: <p>Registration: 3:30 – 4:00 p.m. <BR> Program: 4:00 –  6:30 p.m. <BR> Networking Reception: 6:30 p.m. - 7:30 p.m</p></div>&nbsp\;<div>Event Detail Page: https://www.boardoftrade.com/events/7671</div></body></html>

SUMMARY:Trade Beyond Borders: Enhancing Korea - Canada Economic Ties
END:VEVENT
END:VCALENDAR