
BEGIN:VCALENDAR
VERSION:2.0
CALSCALE:GREGORIAN
BEGIN:VEVENT
URL;VALUE=URI:https://www.boardoftrade.com/events/7670
DTSTART:20231005T233000Z
DTEND:20231006T020000Z
UID:7670eventcalendar.boardoftrade.com
DTSTAMP:20260419T174341Z
LOCATION:And-Co 1575 West Georgia Vancouver\, B.C.
DESCRIPTION:Schedule: \nRegistration: 4:30 - 5:00pm \n Experience: 5:00 - 7:00 p.m\n \nEvent Detail Page: https://www.boardoftrade.com/events/7670
X-ALT-DESC;FMTTYPE=text/html:<!doctype html><html><body><div>Schedule: <p>Registration: 4:30 - 5:00pm <BR> Experience: 5:00 - 7:00 p.m</p></div>&nbsp\;<div>Event Detail Page: https://www.boardoftrade.com/events/7670</div></body></html>

SUMMARY:Unlocking the Art of Culinary Delights with Kula Foods at And-Co
END:VEVENT
END:VCALENDAR