
BEGIN:VCALENDAR
VERSION:2.0
CALSCALE:GREGORIAN
BEGIN:VEVENT
URL;VALUE=URI:https://www.boardoftrade.com/events/7668
DTSTART:20230912T160000Z
DTEND:20230912T200000Z
UID:7668eventcalendar.boardoftrade.com
DTSTAMP:20260419T174354Z
LOCATION:Northeastern University Vancouver Suite 1400 410 West Georgia Street Vancouver
DESCRIPTION:Schedule: \nRegistration: 9:00 – 9:30 a.m. \n Program: 9:30 –  11:15 a.m. \n Networking Reception: 11:15 a.m. - 12:30 p.m\n \nEvent Detail Page: https://www.boardoftrade.com/events/7668
X-ALT-DESC;FMTTYPE=text/html:<!doctype html><html><body><div>Schedule: <p>Registration: 9:00 – 9:30 a.m. <BR> Program: 9:30 –  11:15 a.m. <BR> Networking Reception: 11:15 a.m. - 12:30 p.m</p></div>&nbsp\;<div>Event Detail Page: https://www.boardoftrade.com/events/7668</div></body></html>

SUMMARY:Unlocking Opportunities: Strengthening B.C. - Taiwan Trade Relations
END:VEVENT
END:VCALENDAR