
BEGIN:VCALENDAR
VERSION:2.0
CALSCALE:GREGORIAN
BEGIN:VEVENT
URL;VALUE=URI:https://www.boardoftrade.com/events/7661
DTSTART:20230908T000000Z
DTEND:20230908T013000Z
UID:7661eventcalendar.boardoftrade.com
DTSTAMP:20260419T160641Z
LOCATION:
DESCRIPTION:Schedule: \nOnline Program: 5:00 – 6:30 p.m. PT\n \n  <em>All registered students will be sent a Zoom link to participate in this event by 2:00 p.m. PT on Thursday\, September 7.</em>  \n\n <strong>This event is exclusive and complimentary for 2023-24 Mentees of GVBOT's Leaders of Tomorrow mentorship program.</strong>\n \nEvent Detail Page: https://www.boardoftrade.com/events/7661
X-ALT-DESC;FMTTYPE=text/html:<!doctype html><html><body><div>Schedule: <p>Online Program: 5:00 – 6:30 p.m. PT<BR> <BR>  <em>All registered students will be sent a Zoom link to participate in this event by 2:00 p.m. PT on Thursday\, September 7.</em>  <BR><BR> <strong>This event is exclusive and complimentary for 2023-24 Mentees of GVBOT's Leaders of Tomorrow mentorship program.</strong></p></div>&nbsp\;<div>Event Detail Page: https://www.boardoftrade.com/events/7661</div></body></html>

SUMMARY:LOT Leadership Development Day
END:VEVENT
END:VCALENDAR