
BEGIN:VCALENDAR
VERSION:2.0
CALSCALE:GREGORIAN
BEGIN:VEVENT
URL;VALUE=URI:https://www.boardoftrade.com/events/7649
DTSTART:20240201T170000Z
DTEND:20240229T200000Z
UID:7649eventcalendar.boardoftrade.com
DTSTAMP:20260419T174341Z
LOCATION:BCIT Downtown Campus  Classroom 820  555 Seymour St\, Vancouver
DESCRIPTION:Schedule: \nThursday February 1 - February 29\, 2024\n9:00 a.m. - 12:00 p.m.  \n\nRegistration deadline: January 25\, 2024\n \nEvent Detail Page: https://www.boardoftrade.com/events/7649
X-ALT-DESC;FMTTYPE=text/html:<!doctype html><html><body><div>Schedule: <p>Thursday February 1 - February 29\, 2024<BR>9:00 a.m. - 12:00 p.m.  <BR><BR><B>Registration deadline: January 25\, 2024</B></p></div>&nbsp\;<div>Event Detail Page: https://www.boardoftrade.com/events/7649</div></body></html>

SUMMARY:ESG Fundamentals Microcredential: Design your ESG action plan
END:VEVENT
END:VCALENDAR