
BEGIN:VCALENDAR
VERSION:2.0
CALSCALE:GREGORIAN
BEGIN:VEVENT
URL;VALUE=URI:https://www.boardoftrade.com/events/7648
DTSTART:20230914T000000Z
DTEND:20230914T020000Z
UID:7648eventcalendar.boardoftrade.com
DTSTAMP:20260419T174519Z
LOCATION:Slate. Event Space 670 Smithe St - 3rd Floor Vancouver
DESCRIPTION:Schedule: \nRegistration & Reception: 5:00  – 5:30 p.m. PT \n Program: 5:30  - 6:30 p.m. PT\n Open Networking: 6:30 - 7:00 p.m. PT\n \nEvent Detail Page: https://www.boardoftrade.com/events/7648
X-ALT-DESC;FMTTYPE=text/html:<!doctype html><html><body><div>Schedule: <p>Registration & Reception: 5:00  – 5:30 p.m. PT <BR> Program: 5:30  - 6:30 p.m. PT<BR> Open Networking: 6:30 - 7:00 p.m. PT</p></div>&nbsp\;<div>Event Detail Page: https://www.boardoftrade.com/events/7648</div></body></html>

SUMMARY:2022-23 LOT Graduation and New Student Welcome
END:VEVENT
END:VCALENDAR