
BEGIN:VCALENDAR
VERSION:2.0
CALSCALE:GREGORIAN
BEGIN:VEVENT
URL;VALUE=URI:https://www.boardoftrade.com/events/7647
DTSTART:20231016T160000Z
DTEND:20231016T180000Z
UID:7647eventcalendar.boardoftrade.com
DTSTAMP:20260419T174356Z
LOCATION:
DESCRIPTION:Schedule: \n9 - 11 a.m. \n\n Session 1: Monday\, October 16 \n Session 2: Tuesday\, October 17 \n Session 3: Wednesday\, October 18\n \nEvent Detail Page: https://www.boardoftrade.com/events/7647
X-ALT-DESC;FMTTYPE=text/html:<!doctype html><html><body><div>Schedule: <p>9 - 11 a.m. <BR><BR> Session 1: Monday\, October 16 <BR> Session 2: Tuesday\, October 17 <BR> Session 3: Wednesday\, October 18</p></div>&nbsp\;<div>Event Detail Page: https://www.boardoftrade.com/events/7647</div></body></html>

SUMMARY:Diversity and Inclusion Training: IDEA Essentials 1.0
END:VEVENT
END:VCALENDAR