
BEGIN:VCALENDAR
VERSION:2.0
CALSCALE:GREGORIAN
BEGIN:VEVENT
URL;VALUE=URI:https://www.boardoftrade.com/events/7646
DTSTART:20230915T000000Z
DTEND:20230915T040000Z
UID:7646eventcalendar.boardoftrade.com
DTSTAMP:20260419T172038Z
LOCATION:Rosewood Hotel Georgia 801 W Georgia St\, Vancouver
DESCRIPTION:Schedule: \nRegistration: 5:00 p.m. \nNetworking & Alumni Showcase 5:00 - 6:30 p.m.\nDinner & Program: 6:30 - 9:00 p.m.\nDress Code: Cocktail Attire\n \nEvent Detail Page: https://www.boardoftrade.com/events/7646
X-ALT-DESC;FMTTYPE=text/html:<!doctype html><html><body><div>Schedule: <p>Registration: 5:00 p.m. <BR>Networking & Alumni Showcase 5:00 - 6:30 p.m.<BR>Dinner & Program: 6:30 - 9:00 p.m.<BR>Dress Code: Cocktail Attire</p></div>&nbsp\;<div>Event Detail Page: https://www.boardoftrade.com/events/7646</div></body></html>

SUMMARY:World Trade Centre Vancouver Export Awards
END:VEVENT
END:VCALENDAR