
BEGIN:VCALENDAR
VERSION:2.0
CALSCALE:GREGORIAN
BEGIN:VEVENT
URL;VALUE=URI:https://www.boardoftrade.com/events/7645
DTSTART:20230727T230000Z
DTEND:20230728T013000Z
UID:7645eventcalendar.boardoftrade.com
DTSTAMP:20260419T160351Z
LOCATION:Brains Bioceutical 610 - 999 Canada Place Vancouver
DESCRIPTION:Schedule: \nSocial: 4:00 - 6:00 p.m.\n \nEvent Detail Page: https://www.boardoftrade.com/events/7645
X-ALT-DESC;FMTTYPE=text/html:<!doctype html><html><body><div>Schedule: <p>Social: 4:00 - 6:00 p.m.</p></div>&nbsp\;<div>Event Detail Page: https://www.boardoftrade.com/events/7645</div></body></html>

SUMMARY:Brains Bioceutical Patio
END:VEVENT
END:VCALENDAR